Workbook

Sheet RACI-matrix
A1: RACI-matrix
A2: Vælg R, A, C, I eller A/R i hver celle. Tjek-kolonnen viser, om rækken har ét A og mindst ét R.
A3: Skabelon fra We Lead Projects · weleadprojects.com
A5: Opgave eller beslutning | B5: Projektejer | C5: Projektleder | D5: Styregruppe | E5: Arkitekt | F5: IT-drift | G5: Superbrugere | H5: Leverandør | I5: [Rolle] | J5: Antal A | K5: Antal R | L5: Tjek
A6: Business case og gevinst | B6: A | C6: R | D6: C | E6: C | F6: I | G6: I | H6: I | J6: =IF($A6="","",COUNTIF(B6:I6,"A")+COUNTIF(B6:I6,"A/R")) | K6: =IF($A6="","",COUNTIF(B6:I6,"R")+COUNTIF(B6:I6,"A/R")) | L6: =IF($A6="","",IF(J6=0,"Mangler A",IF(J6>1,"Flere A'er",IF(K6=0,"Mangler R",IF(COUNTIF(B6:I6,"C")>=4,"Mange C'er","OK")))))
A7: Projektplan og milepæle | B7: I | C7: A/R | D7: I | E7: C | F7: C | G7: I | H7: C | J7: =IF($A7="","",COUNTIF(B7:I7,"A")+COUNTIF(B7:I7,"A/R")) | K7: =IF($A7="","",COUNTIF(B7:I7,"R")+COUNTIF(B7:I7,"A/R")) | L7: =IF($A7="","",IF(J7=0,"Mangler A",IF(J7>1,"Flere A'er",IF(K7=0,"Mangler R",IF(COUNTIF(B7:I7,"C")>=4,"Mange C'er","OK")))))
A8: Ændringer i omfang, tid og budget | B8: C | C8: R | D8: A | E8: C | F8: I | G8: I | H8: C | J8: =IF($A8="","",COUNTIF(B8:I8,"A")+COUNTIF(B8:I8,"A/R")) | K8: =IF($A8="","",COUNTIF(B8:I8,"R")+COUNTIF(B8:I8,"A/R")) | L8: =IF($A8="","",IF(J8=0,"Mangler A",IF(J8>1,"Flere A'er",IF(K8=0,"Mangler R",IF(COUNTIF(B8:I8,"C")>=4,"Mange C'er","OK")))))
A9: Løsningsdesign og arkitektur | B9: I | C9: C | D9: I | E9: A | F9: C | G9: C | H9: R | J9: =IF($A9="","",COUNTIF(B9:I9,"A")+COUNTIF(B9:I9,"A/R")) | K9: =IF($A9="","",COUNTIF(B9:I9,"R")+COUNTIF(B9:I9,"A/R")) | L9: =IF($A9="","",IF(J9=0,"Mangler A",IF(J9>1,"Flere A'er",IF(K9=0,"Mangler R",IF(COUNTIF(B9:I9,"C")>=4,"Mange C'er","OK")))))
A10: Data og migrering | B10: I | C10: A | D10: I | E10: C | F10: C | G10: R | H10: R | J10: =IF($A10="","",COUNTIF(B10:I10,"A")+COUNTIF(B10:I10,"A/R")) | K10: =IF($A10="","",COUNTIF(B10:I10,"R")+COUNTIF(B10:I10,"A/R")) | L10: =IF($A10="","",IF(J10=0,"Mangler A",IF(J10>1,"Flere A'er",IF(K10=0,"Mangler R",IF(COUNTIF(B10:I10,"C")>=4,"Mange C'er","OK")))))
A11: Test og accept af løsningen | B11: A | C11: C | D11: I | E11: I | F11: C | G11: R | H11: C | J11: =IF($A11="","",COUNTIF(B11:I11,"A")+COUNTIF(B11:I11,"A/R")) | K11: =IF($A11="","",COUNTIF(B11:I11,"R")+COUNTIF(B11:I11,"A/R")) | L11: =IF($A11="","",IF(J11=0,"Mangler A",IF(J11>1,"Flere A'er",IF(K11=0,"Mangler R",IF(COUNTIF(B11:I11,"C")>=4,"Mange C'er","OK")))))
A12: Overdragelse til drift | B12: I | C12: R | D12: I | E12: C | F12: A | G12: I | H12: C | J12: =IF($A12="","",COUNTIF(B12:I12,"A")+COUNTIF(B12:I12,"A/R")) | K12: =IF($A12="","",COUNTIF(B12:I12,"R")+COUNTIF(B12:I12,"A/R")) | L12: =IF($A12="","",IF(J12=0,"Mangler A",IF(J12>1,"Flere A'er",IF(K12=0,"Mangler R",IF(COUNTIF(B12:I12,"C")>=4,"Mange C'er","OK")))))
A13: Risici og eskalering | B13: C | C13: A/R | D13: I | E13: I | F13: I | G13: I | H13: I | J13: =IF($A13="","",COUNTIF(B13:I13,"A")+COUNTIF(B13:I13,"A/R")) | K13: =IF($A13="","",COUNTIF(B13:I13,"R")+COUNTIF(B13:I13,"A/R")) | L13: =IF($A13="","",IF(J13=0,"Mangler A",IF(J13>1,"Flere A'er",IF(K13=0,"Mangler R",IF(COUNTIF(B13:I13,"C")>=4,"Mange C'er","OK")))))
J14: =IF($A14="","",COUNTIF(B14:I14,"A")+COUNTIF(B14:I14,"A/R")) | K14: =IF($A14="","",COUNTIF(B14:I14,"R")+COUNTIF(B14:I14,"A/R")) | L14: =IF($A14="","",IF(J14=0,"Mangler A",IF(J14>1,"Flere A'er",IF(K14=0,"Mangler R",IF(COUNTIF(B14:I14,"C")>=4,"Mange C'er","OK")))))
J15: =IF($A15="","",COUNTIF(B15:I15,"A")+COUNTIF(B15:I15,"A/R")) | K15: =IF($A15="","",COUNTIF(B15:I15,"R")+COUNTIF(B15:I15,"A/R")) | L15: =IF($A15="","",IF(J15=0,"Mangler A",IF(J15>1,"Flere A'er",IF(K15=0,"Mangler R",IF(COUNTIF(B15:I15,"C")>=4,"Mange C'er","OK")))))
J16: =IF($A16="","",COUNTIF(B16:I16,"A")+COUNTIF(B16:I16,"A/R")) | K16: =IF($A16="","",COUNTIF(B16:I16,"R")+COUNTIF(B16:I16,"A/R")) | L16: =IF($A16="","",IF(J16=0,"Mangler A",IF(J16>1,"Flere A'er",IF(K16=0,"Mangler R",IF(COUNTIF(B16:I16,"C")>=4,"Mange C'er","OK")))))
J17: =IF($A17="","",COUNTIF(B17:I17,"A")+COUNTIF(B17:I17,"A/R")) | K17: =IF($A17="","",COUNTIF(B17:I17,"R")+COUNTIF(B17:I17,"A/R")) | L17: =IF($A17="","",IF(J17=0,"Mangler A",IF(J17>1,"Flere A'er",IF(K17=0,"Mangler R",IF(COUNTIF(B17:I17,"C")>=4,"Mange C'er","OK")))))
J18: =IF($A18="","",COUNTIF(B18:I18,"A")+COUNTIF(B18:I18,"A/R")) | K18: =IF($A18="","",COUNTIF(B18:I18,"R")+COUNTIF(B18:I18,"A/R")) | L18: =IF($A18="","",IF(J18=0,"Mangler A",IF(J18>1,"Flere A'er",IF(K18=0,"Mangler R",IF(COUNTIF(B18:I18,"C")>=4,"Mange C'er","OK")))))
J19: =IF($A19="","",COUNTIF(B19:I19,"A")+COUNTIF(B19:I19,"A/R")) | K19: =IF($A19="","",COUNTIF(B19:I19,"R")+COUNTIF(B19:I19,"A/R")) | L19: =IF($A19="","",IF(J19=0,"Mangler A",IF(J19>1,"Flere A'er",IF(K19=0,"Mangler R",IF(COUNTIF(B19:I19,"C")>=4,"Mange C'er","OK")))))
J20: =IF($A20="","",COUNTIF(B20:I20,"A")+COUNTIF(B20:I20,"A/R")) | K20: =IF($A20="","",COUNTIF(B20:I20,"R")+COUNTIF(B20:I20,"A/R")) | L20: =IF($A20="","",IF(J20=0,"Mangler A",IF(J20>1,"Flere A'er",IF(K20=0,"Mangler R",IF(COUNTIF(B20:I20,"C")>=4,"Mange C'er","OK")))))
J21: =IF($A21="","",COUNTIF(B21:I21,"A")+COUNTIF(B21:I21,"A/R")) | K21: =IF($A21="","",COUNTIF(B21:I21,"R")+COUNTIF(B21:I21,"A/R")) | L21: =IF($A21="","",IF(J21=0,"Mangler A",IF(J21>1,"Flere A'er",IF(K21=0,"Mangler R",IF(COUNTIF(B21:I21,"C")>=4,"Mange C'er","OK")))))
J22: =IF($A22="","",COUNTIF(B22:I22,"A")+COUNTIF(B22:I22,"A/R")) | K22: =IF($A22="","",COUNTIF(B22:I22,"R")+COUNTIF(B22:I22,"A/R")) | L22: =IF($A22="","",IF(J22=0,"Mangler A",IF(J22>1,"Flere A'er",IF(K22=0,"Mangler R",IF(COUNTIF(B22:I22,"C")>=4,"Mange C'er","OK")))))
J23: =IF($A23="","",COUNTIF(B23:I23,"A")+COUNTIF(B23:I23,"A/R")) | K23: =IF($A23="","",COUNTIF(B23:I23,"R")+COUNTIF(B23:I23,"A/R")) | L23: =IF($A23="","",IF(J23=0,"Mangler A",IF(J23>1,"Flere A'er",IF(K23=0,"Mangler R",IF(COUNTIF(B23:I23,"C")>=4,"Mange C'er","OK")))))
J24: =IF($A24="","",COUNTIF(B24:I24,"A")+COUNTIF(B24:I24,"A/R")) | K24: =IF($A24="","",COUNTIF(B24:I24,"R")+COUNTIF(B24:I24,"A/R")) | L24: =IF($A24="","",IF(J24=0,"Mangler A",IF(J24>1,"Flere A'er",IF(K24=0,"Mangler R",IF(COUNTIF(B24:I24,"C")>=4,"Mange C'er","OK")))))
J25: =IF($A25="","",COUNTIF(B25:I25,"A")+COUNTIF(B25:I25,"A/R")) | K25: =IF($A25="","",COUNTIF(B25:I25,"R")+COUNTIF(B25:I25,"A/R")) | L25: =IF($A25="","",IF(J25=0,"Mangler A",IF(J25>1,"Flere A'er",IF(K25=0,"Mangler R",IF(COUNTIF(B25:I25,"C")>=4,"Mange C'er","OK")))))
... J35: =IF($A35="","",COUNTIF(B35:I35,"A")+COUNTIF(B35:I35,"A/R")) | K35: =IF($A35="","",COUNTIF(B35:I35,"R")+COUNTIF(B35:I35,"A/R")) | L35: =IF($A35="","",IF(J35=0,"Mangler A",IF(J35>1,"Flere A'er",IF(K35=0,"Mangler R",IF(COUNTIF(B35:I35,"C")>=4,"Mange C'er","OK")))))

Sheet Overblik pr. rolle
A1: Overblik pr. rolle
A2: Læs matrixen lodret: hvor mange A'er, R'er, C'er og I'er har hver rolle?
A3: Skabelon fra We Lead Projects · weleadprojects.com
A5: Rolle | B5: Antal A | C5: Antal R | D5: Antal C | E5: Antal I | F5: Vurdering
A6: ='RACI-matrix'!B5 | B6: =COUNTIF('RACI-matrix'!B$6:B$35,"A")+COUNTIF('RACI-matrix'!B$6:B$35,"A/R") | C6: =COUNTIF('RACI-matrix'!B$6:B$35,"R")+COUNTIF('RACI-matrix'!B$6:B$35,"A/R") | D6: =COUNTIF('RACI-matrix'!B$6:B$35,"C") | E6: =COUNTIF('RACI-matrix'!B$6:B$35,"I") | F6: =IF(SUM(B6:E6)=0,"",IF(B6+C6=0,"Kun C og I: skal rollen stå i matrixen?",IF(B6>=5,"Mange A'er: er rollen en flaskehals?",IF(C6>=6,"Mange R'er: er der tid til det i planen?","OK"))))
A7: ='RACI-matrix'!C5 | B7: =COUNTIF('RACI-matrix'!C$6:C$35,"A")+COUNTIF('RACI-matrix'!C$6:C$35,"A/R") | C7: =COUNTIF('RACI-matrix'!C$6:C$35,"R")+COUNTIF('RACI-matrix'!C$6:C$35,"A/R") | D7: =COUNTIF('RACI-matrix'!C$6:C$35,"C") | E7: =COUNTIF('RACI-matrix'!C$6:C$35,"I") | F7: =IF(SUM(B7:E7)=0,"",IF(B7+C7=0,"Kun C og I: skal rollen stå i matrixen?",IF(B7>=5,"Mange A'er: er rollen en flaskehals?",IF(C7>=6,"Mange R'er: er der tid til det i planen?","OK"))))
A8: ='RACI-matrix'!D5 | B8: =COUNTIF('RACI-matrix'!D$6:D$35,"A")+COUNTIF('RACI-matrix'!D$6:D$35,"A/R") | C8: =COUNTIF('RACI-matrix'!D$6:D$35,"R")+COUNTIF('RACI-matrix'!D$6:D$35,"A/R") | D8: =COUNTIF('RACI-matrix'!D$6:D$35,"C") | E8: =COUNTIF('RACI-matrix'!D$6:D$35,"I") | F8: =IF(SUM(B8:E8)=0,"",IF(B8+C8=0,"Kun C og I: skal rollen stå i matrixen?",IF(B8>=5,"Mange A'er: er rollen en flaskehals?",IF(C8>=6,"Mange R'er: er der tid til det i planen?","OK"))))
A9: ='RACI-matrix'!E5 | B9: =COUNTIF('RACI-matrix'!E$6:E$35,"A")+COUNTIF('RACI-matrix'!E$6:E$35,"A/R") | C9: =COUNTIF('RACI-matrix'!E$6:E$35,"R")+COUNTIF('RACI-matrix'!E$6:E$35,"A/R") | D9: =COUNTIF('RACI-matrix'!E$6:E$35,"C") | E9: =COUNTIF('RACI-matrix'!E$6:E$35,"I") | F9: =IF(SUM(B9:E9)=0,"",IF(B9+C9=0,"Kun C og I: skal rollen stå i matrixen?",IF(B9>=5,"Mange A'er: er rollen en flaskehals?",IF(C9>=6,"Mange R'er: er der tid til det i planen?","OK"))))
A10: ='RACI-matrix'!F5 | B10: =COUNTIF('RACI-matrix'!F$6:F$35,"A")+COUNTIF('RACI-matrix'!F$6:F$35,"A/R") | C10: =COUNTIF('RACI-matrix'!F$6:F$35,"R")+COUNTIF('RACI-matrix'!F$6:F$35,"A/R") | D10: =COUNTIF('RACI-matrix'!F$6:F$35,"C") | E10: =COUNTIF('RACI-matrix'!F$6:F$35,"I") | F10: =IF(SUM(B10:E10)=0,"",IF(B10+C10=0,"Kun C og I: skal rollen stå i matrixen?",IF(B10>=5,"Mange A'er: er rollen en flaskehals?",IF(C10>=6,"Mange R'er: er der tid til det i planen?","OK"))))
A11: ='RACI-matrix'!G5 | B11: =COUNTIF('RACI-matrix'!G$6:G$35,"A")+COUNTIF('RACI-matrix'!G$6:G$35,"A/R") | C11: =COUNTIF('RACI-matrix'!G$6:G$35,"R")+COUNTIF('RACI-matrix'!G$6:G$35,"A/R") | D11: =COUNTIF('RACI-matrix'!G$6:G$35,"C") | E11: =COUNTIF('RACI-matrix'!G$6:G$35,"I") | F11: =IF(SUM(B11:E11)=0,"",IF(B11+C11=0,"Kun C og I: skal rollen stå i matrixen?",IF(B11>=5,"Mange A'er: er rollen en flaskehals?",IF(C11>=6,"Mange R'er: er der tid til det i planen?","OK"))))
A12: ='RACI-matrix'!H5 | B12: =COUNTIF('RACI-matrix'!H$6:H$35,"A")+COUNTIF('RACI-matrix'!H$6:H$35,"A/R") | C12: =COUNTIF('RACI-matrix'!H$6:H$35,"R")+COUNTIF('RACI-matrix'!H$6:H$35,"A/R") | D12: =COUNTIF('RACI-matrix'!H$6:H$35,"C") | E12: =COUNTIF('RACI-matrix'!H$6:H$35,"I") | F12: =IF(SUM(B12:E12)=0,"",IF(B12+C12=0,"Kun C og I: skal rollen stå i matrixen?",IF(B12>=5,"Mange A'er: er rollen en flaskehals?",IF(C12>=6,"Mange R'er: er der tid til det i planen?","OK"))))
A13: ='RACI-matrix'!I5 | B13: =COUNTIF('RACI-matrix'!I$6:I$35,"A")+COUNTIF('RACI-matrix'!I$6:I$35,"A/R") | C13: =COUNTIF('RACI-matrix'!I$6:I$35,"R")+COUNTIF('RACI-matrix'!I$6:I$35,"A/R") | D13: =COUNTIF('RACI-matrix'!I$6:I$35,"C") | E13: =COUNTIF('RACI-matrix'!I$6:I$35,"I") | F13: =IF(SUM(B13:E13)=0,"",IF(B13+C13=0,"Kun C og I: skal rollen stå i matrixen?",IF(B13>=5,"Mange A'er: er rollen en flaskehals?",IF(C13>=6,"Mange R'er: er der tid til det i planen?","OK"))))

Sheet Vejledning
A1: RACI-matrix
A2: Sådan bruger I skabelonen
A3: Skabelon fra We Lead Projects · weleadprojects.com
A5: De fire bogstaver:
A6: R (Responsible): udfører arbejdet. Der kan være flere R'er, men mindst én.
A7: A (Accountable): står til ansvar og godkender. Præcis ét A pr. række. Gør den ansvarlige også arbejdet, så skriv A/R.
A8: C (Consulted): rådføres før beslutningen. Hver C koster tid, så brug dem sparsomt.
A9: I (Informed): informeres bagefter. Lad feltet stå tomt, hvis rollen ikke har noget med opgaven at gøre.
A10: Sådan gør I:
A11: 1. Skriv 8 til 15 opgaver og beslutninger, hvor ansvaret kan være uklart. Slet eksemplerne.
A12: 2. Skriv jeres roller i kolonneoverskrifterne. Brug roller, ikke navne, så matrixen overlever udskiftninger.
A13: 3. Sæt A først. Det er her, uenighederne kommer frem. Tag dem nu og ikke midt i projektet.
... A17: Mere om RACI-modellen: https://www.weleadprojects.com/ydelser/projektledelse/raci-model
