Workbook

Sheet Portefølje
A1: Applikationsportefølje
A2: Vælg forretningsværdi og teknisk kvalitet. TIME-handlingen foreslås automatisk.
A3: Skabelon fra We Lead Projects · weleadprojects.com
A5: Nr | B5: System | C5: Leverandør | D5: Forretningsevne | E5: Forretningsejer | F5: Teknisk ejer | G5: Stamdata systemet ejer | H5: Integrationer | I5: Version og support | J5: Kontraktudløb | K5: Forretningsværdi | L5: Teknisk kvalitet | M5: TIME-handling | N5: Bemærkning
A6: 1 | B6: ERP (selskab A) | C6: [Leverandør] | D6: Økonomi og indkøb | E6: Økonomidirektør | F6: IT-chef | G6: Leverandører, konti | H6: Bank, lønsystem, rapportering | I6: Version uden support fra næste år | J6: 46721.958 | K6: Høj | L6: Lav | M6: =IF(OR(K6="",L6=""),"",IF(AND(K6="Høj",L6="Høj"),"Investér",IF(K6="Høj","Migrér",IF(L6="Høj","Tolerér","Eliminér")))) | N6: Erstattes af fælles ERP
A7: 2 | B7: Kundeplatform | C7: [Leverandør] | D7: Salg og service | E7: Salgsdirektør | F7: Systemansvarlig | G7: Kunder | H7: ERP, webshop | I7: Seneste version | J7: 47208.917 | K7: Høj | L7: Høj | M7: =IF(OR(K7="",L7=""),"",IF(AND(K7="Høj",L7="Høj"),"Investér",IF(K7="Høj","Migrér",IF(L7="Høj","Tolerér","Eliminér"))))
A8: 3 | B8: Rapportværktøj | C8: [Leverandør] | D8: Rapportering | E8: Controller | F8: IT-drift | H8: ERP | I8: Udgået version | J8: 46446.958 | K8: Lav | L8: Lav | M8: =IF(OR(K8="",L8=""),"",IF(AND(K8="Høj",L8="Høj"),"Investér",IF(K8="Høj","Migrér",IF(L8="Høj","Tolerér","Eliminér")))) | N8: Bruges af tre personer
A9: 4 | B9: HR-system | C9: [Leverandør] | D9: HR og løn | E9: HR-chef | F9: IT-drift | G9: Medarbejdere | H9: Lønsystem | I9: Seneste version | J9: 46904.917 | K9: Lav | L9: Høj | M9: =IF(OR(K9="",L9=""),"",IF(AND(K9="Høj",L9="Høj"),"Investér",IF(K9="Høj","Migrér",IF(L9="Høj","Tolerér","Eliminér"))))
A10: 5 | B10: Regneark til produktionsplan | C10: Egenudviklet | D10: Produktion | E10: Ikke afklaret | F10: Ikke afklaret | H10: Manuel indtastning fra ERP | I10: Én medarbejder vedligeholder | K10: Høj | L10: Lav | M10: =IF(OR(K10="",L10=""),"",IF(AND(K10="Høj",L10="Høj"),"Investér",IF(K10="Høj","Migrér",IF(L10="Høj","Tolerér","Eliminér")))) | N10: Kritisk og uden ejer
M11: =IF(OR(K11="",L11=""),"",IF(AND(K11="Høj",L11="Høj"),"Investér",IF(K11="Høj","Migrér",IF(L11="Høj","Tolerér","Eliminér"))))
M12: =IF(OR(K12="",L12=""),"",IF(AND(K12="Høj",L12="Høj"),"Investér",IF(K12="Høj","Migrér",IF(L12="Høj","Tolerér","Eliminér"))))
M13: =IF(OR(K13="",L13=""),"",IF(AND(K13="Høj",L13="Høj"),"Investér",IF(K13="Høj","Migrér",IF(L13="Høj","Tolerér","Eliminér"))))
M14: =IF(OR(K14="",L14=""),"",IF(AND(K14="Høj",L14="Høj"),"Investér",IF(K14="Høj","Migrér",IF(L14="Høj","Tolerér","Eliminér"))))
M15: =IF(OR(K15="",L15=""),"",IF(AND(K15="Høj",L15="Høj"),"Investér",IF(K15="Høj","Migrér",IF(L15="Høj","Tolerér","Eliminér"))))
M16: =IF(OR(K16="",L16=""),"",IF(AND(K16="Høj",L16="Høj"),"Investér",IF(K16="Høj","Migrér",IF(L16="Høj","Tolerér","Eliminér"))))
M17: =IF(OR(K17="",L17=""),"",IF(AND(K17="Høj",L17="Høj"),"Investér",IF(K17="Høj","Migrér",IF(L17="Høj","Tolerér","Eliminér"))))
M18: =IF(OR(K18="",L18=""),"",IF(AND(K18="Høj",L18="Høj"),"Investér",IF(K18="Høj","Migrér",IF(L18="Høj","Tolerér","Eliminér"))))
M19: =IF(OR(K19="",L19=""),"",IF(AND(K19="Høj",L19="Høj"),"Investér",IF(K19="Høj","Migrér",IF(L19="Høj","Tolerér","Eliminér"))))
M20: =IF(OR(K20="",L20=""),"",IF(AND(K20="Høj",L20="Høj"),"Investér",IF(K20="Høj","Migrér",IF(L20="Høj","Tolerér","Eliminér"))))
M21: =IF(OR(K21="",L21=""),"",IF(AND(K21="Høj",L21="Høj"),"Investér",IF(K21="Høj","Migrér",IF(L21="Høj","Tolerér","Eliminér"))))
M22: =IF(OR(K22="",L22=""),"",IF(AND(K22="Høj",L22="Høj"),"Investér",IF(K22="Høj","Migrér",IF(L22="Høj","Tolerér","Eliminér"))))
... M255: =IF(OR(K255="",L255=""),"",IF(AND(K255="Høj",L255="Høj"),"Investér",IF(K255="Høj","Migrér",IF(L255="Høj","Tolerér","Eliminér"))))

Sheet Overblik
A1: Overblik
A2: Opdateres automatisk fra fanen Portefølje.
A3: Skabelon fra We Lead Projects · weleadprojects.com
B5: Antal | C5: Hvad det betyder
A6: Migrér | B6: =COUNTIF('Portefølje'!$M$6:$M$255,A6) | C6: Høj værdi, lav kvalitet. Fx et ERP-system, der bærer forretningen, men kører på en version uden support
A7: Investér | B7: =COUNTIF('Portefølje'!$M$6:$M$255,A7) | C7: Høj værdi, høj kvalitet. Fx en moderne kundeplatform, der driver salget
A8: Eliminér | B8: =COUNTIF('Portefølje'!$M$6:$M$255,A8) | C8: Lav værdi, lav kvalitet. Fx et gammelt rapportværktøj, som tre personer bruger
A9: Tolerér | B9: =COUNTIF('Portefølje'!$M$6:$M$255,A9) | C9: Lav værdi, høj kvalitet. Fx et velfungerende system til en støttefunktion
A10: Uden afklaret ejer | B10: =COUNTIF('Portefølje'!$E$6:$E$255,"Ikke afklaret")+COUNTIFS('Portefølje'!$B$6:$B$255,"<>",'Portefølje'!$E$6:$E$255,"") | C10: Systemer uden forretningsejer. Dem skal I tage stilling til først
A11: Kontrakt udløber inden for et år | B11: =COUNTIFS('Portefølje'!$J$6:$J$255,"<="&(TODAY()+365),'Portefølje'!$J$6:$J$255,">0") | C11: Tag stilling, før kontrakten fornyer sig selv

Sheet Vejledning
A1: Applikationsportefølje
A2: Sådan bruger I skabelonen
A3: Skabelon fra We Lead Projects · weleadprojects.com
A5: Porteføljen er grundlaget for enhver arkitekturbeslutning. Ledelsen skal kunne bruge den til at prioritere, så kobl hvert system til den forretningsevne, det understøtter.
A6: Sådan kommer I i gang:
A7: 1. Start med forretningen: lav en liste over forretningsevner, fx salg, indkøb, lager og økonomi.
A8: 2. Saml systemerne fra licenser, IT-drift og indkøb. Spørg derefter afdelingerne, hvad de bruger. Regneark og små databaser tæller også.
A9: 3. Find ejerne: hvert system skal have en forretningsejer og en teknisk ejer.
A10: 4. Tegn integrationerne. Det er her, de skjulte afhængigheder viser sig.
A11: 5. Vurdér forretningsværdi og teknisk kvalitet. TIME-handlingen foreslås automatisk: Investér, Migrér, Tolerér eller Eliminér.
A12: Kontrakter, der udløber inden for et år, bliver markeret, så I når at tage stilling.
A13: Mere om kortlægning af systemlandskabet: https://www.weleadprojects.com/ydelser/enterprise-architecture/systemlandskab
